BEGIN:VCALENDAR
VERSION:2.0
PRODID:-//NADI Kg Bawah Gunung - ECPv6.15.13.1//NONSGML v1.0//EN
CALSCALE:GREGORIAN
METHOD:PUBLISH
X-WR-CALNAME:NADI Kg Bawah Gunung
X-ORIGINAL-URL:https://kgbawahgunung.nadi.my
X-WR-CALDESC:Events for NADI Kg Bawah Gunung
REFRESH-INTERVAL;VALUE=DURATION:PT1H
X-Robots-Tag:noindex
X-PUBLISHED-TTL:PT1H
BEGIN:VTIMEZONE
TZID:Asia/Kuala_Lumpur
BEGIN:STANDARD
TZOFFSETFROM:+0800
TZOFFSETTO:+0800
TZNAME:+08
DTSTART:20240101T000000
END:STANDARD
END:VTIMEZONE
BEGIN:VEVENT
DTSTART;TZID=Asia/Kuala_Lumpur:20250629T100000
DTEND;TZID=Asia/Kuala_Lumpur:20250629T130000
DTSTAMP:20260420T123341
CREATED:20250527T073512Z
LAST-MODIFIED:20250527T073512Z
UID:9145-1751191200-1751202000@kgbawahgunung.nadi.my
SUMMARY:PENCIPTAAN CANVA DALAM MENGHASILKAN POSTER
DESCRIPTION:Membantu pelajar lepasan spm untuk lebih kreatif.
URL:https://kgbawahgunung.nadi.my/event/penciptaan-canva-dalam-menghasilkan-poster/
END:VEVENT
END:VCALENDAR